BEGIN:VCALENDAR
VERSION:2.0
PRODID:-//Medex Training Center - ECPv6.15.13//NONSGML v1.0//EN
CALSCALE:GREGORIAN
METHOD:PUBLISH
X-WR-CALNAME:Medex Training Center
X-ORIGINAL-URL:https://medex-gulf.com
X-WR-CALDESC:Events for Medex Training Center
REFRESH-INTERVAL;VALUE=DURATION:PT1H
X-Robots-Tag:noindex
X-PUBLISHED-TTL:PT1H
BEGIN:VTIMEZONE
TZID:UTC
BEGIN:STANDARD
TZOFFSETFROM:+0000
TZOFFSETTO:+0000
TZNAME:UTC
DTSTART:20230101T000000
END:STANDARD
END:VTIMEZONE
BEGIN:VEVENT
DTSTART;VALUE=DATE:20240511
DTEND;VALUE=DATE:20240512
DTSTAMP:20260420T182316
CREATED:20240418T121829Z
LAST-MODIFIED:20240613T171401Z
UID:6075-1715385600-1715471999@medex-gulf.com
SUMMARY:Pre-Registration Professionalism and Ethics Course with Oath-taking
DESCRIPTION:
URL:https://medex-gulf.com/event/%d8%af%d9%88%d8%b1%d8%a9-%d8%a7%d8%ae%d9%84%d8%a7%d9%82%d9%8a%d8%a7%d8%aa-%d8%a7%d9%84%d9%85%d9%87%d9%86%d8%a9-%d9%88%d8%a7%d8%af%d8%a7%d8%a1-%d8%a7%d9%84%d9%82%d8%b3%d9%85-%d9%84%d9%84%d9%85%d8%aa/
ATTACH;FMTTYPE=image/png:https://medex-gulf.com/wp-content/uploads/2024/05/5.png
END:VEVENT
END:VCALENDAR